BEGIN:VCALENDAR
VERSION:2.0
PRODID:-//Ayuntamiento de San Miguel de Salinas - ECPv6.15.17.1//NONSGML v1.0//EN
CALSCALE:GREGORIAN
METHOD:PUBLISH
X-ORIGINAL-URL:https://www.sanmigueldesalinas.es
X-WR-CALDESC:Eventos para Ayuntamiento de San Miguel de Salinas
REFRESH-INTERVAL;VALUE=DURATION:PT1H
X-Robots-Tag:noindex
X-PUBLISHED-TTL:PT1H
BEGIN:VTIMEZONE
TZID:Europe/Madrid
BEGIN:DAYLIGHT
TZOFFSETFROM:+0100
TZOFFSETTO:+0200
TZNAME:CEST
DTSTART:20250330T010000
END:DAYLIGHT
BEGIN:STANDARD
TZOFFSETFROM:+0200
TZOFFSETTO:+0100
TZNAME:CET
DTSTART:20251026T010000
END:STANDARD
BEGIN:DAYLIGHT
TZOFFSETFROM:+0100
TZOFFSETTO:+0200
TZNAME:CEST
DTSTART:20260329T010000
END:DAYLIGHT
BEGIN:STANDARD
TZOFFSETFROM:+0200
TZOFFSETTO:+0100
TZNAME:CET
DTSTART:20261025T010000
END:STANDARD
BEGIN:DAYLIGHT
TZOFFSETFROM:+0100
TZOFFSETTO:+0200
TZNAME:CEST
DTSTART:20270328T010000
END:DAYLIGHT
BEGIN:STANDARD
TZOFFSETFROM:+0200
TZOFFSETTO:+0100
TZNAME:CET
DTSTART:20271031T010000
END:STANDARD
END:VTIMEZONE
BEGIN:VEVENT
DTSTART;TZID=Europe/Madrid:20260424T113000
DTEND;TZID=Europe/Madrid:20260424T113000
DTSTAMP:20260424T173425
CREATED:20260423T121212Z
LAST-MODIFIED:20260423T121212Z
UID:68335-1777030200-1777030200@www.sanmigueldesalinas.es
SUMMARY:Mes de la Salud | Charla de sensibilización sobre Alzheimer y otras demencias
DESCRIPTION:#ServiciosSociales  Mes de la Salud | Charla de sensibilización sobre Alzheimer y otras demencias \n\n\nEsta charla está dirigida a voluntariado\, familiares y personas interesadas en conocer mejor la realidad del Alzheimer y otras demencias\n\n\nEn ella\, el equipo de AFA Miguel Hernández dará a conocer los recursos de apoyo disponibles para el cuidado de las personas afectadas\, como el Centro de Día \, así como promover la participación del voluntariado .\n\n\n San Miguel de Salinas\n 24 de abril\n 11:30 h\n Centro Social 1ª planta\n\n\nUn espacio para informar\, comprender y acompañar \nPorque cuidar también es escuchar\, apoyar y estar cerca \n\n\n Una iniciativa de la concejalía de #ServiciosSociales y Mancomunidad la Vega con la colaboración de AFA Miguel Hernández de Cox.\n\n\n#MesDeLaSalud #cuídateenlamancomunidad #alzheimer #demencias
URL:https://www.sanmigueldesalinas.es/event/mes-de-la-salud-charla-de-sensibilizacion-sobre-alzheimer-y-otras-demencias/
LOCATION:Centro Social\, Alicante\, 03193\, España
CATEGORIES:Concejalía de Servicios Sociales
ATTACH;FMTTYPE=image/jpeg:https://www.sanmigueldesalinas.es/wp-content/uploads/2026/04/675947913_1398998032256308_7040999989132189581_n.jpg
END:VEVENT
END:VCALENDAR