BEGIN:VCALENDAR
VERSION:2.0
PRODID:-//Ayuntamiento de San Miguel de Salinas - ECPv6.15.17.1//NONSGML v1.0//EN
CALSCALE:GREGORIAN
METHOD:PUBLISH
X-ORIGINAL-URL:https://www.sanmigueldesalinas.es
X-WR-CALDESC:Eventos para Ayuntamiento de San Miguel de Salinas
REFRESH-INTERVAL;VALUE=DURATION:PT1H
X-Robots-Tag:noindex
X-PUBLISHED-TTL:PT1H
BEGIN:VTIMEZONE
TZID:Europe/Madrid
BEGIN:DAYLIGHT
TZOFFSETFROM:+0100
TZOFFSETTO:+0200
TZNAME:CEST
DTSTART:20250330T010000
END:DAYLIGHT
BEGIN:STANDARD
TZOFFSETFROM:+0200
TZOFFSETTO:+0100
TZNAME:CET
DTSTART:20251026T010000
END:STANDARD
BEGIN:DAYLIGHT
TZOFFSETFROM:+0100
TZOFFSETTO:+0200
TZNAME:CEST
DTSTART:20260329T010000
END:DAYLIGHT
BEGIN:STANDARD
TZOFFSETFROM:+0200
TZOFFSETTO:+0100
TZNAME:CET
DTSTART:20261025T010000
END:STANDARD
BEGIN:DAYLIGHT
TZOFFSETFROM:+0100
TZOFFSETTO:+0200
TZNAME:CEST
DTSTART:20270328T010000
END:DAYLIGHT
BEGIN:STANDARD
TZOFFSETFROM:+0200
TZOFFSETTO:+0100
TZNAME:CET
DTSTART:20271031T010000
END:STANDARD
END:VTIMEZONE
BEGIN:VEVENT
DTSTART;TZID=Europe/Madrid:20260622T000000
DTEND;TZID=Europe/Madrid:20260622T000000
DTSTAMP:20260423T195247
CREATED:20260423T090643Z
LAST-MODIFIED:20260423T090643Z
UID:68291-1782086400-1782086400@www.sanmigueldesalinas.es
SUMMARY:Espacios que enamoran 2026
DESCRIPTION:¡Nueva convocatoria del Concurso Fotográfico “Espacios que enamoran 2026”! \n\n\nDesde la Concejalía de Turismo del Ayuntamiento de San Miguel de Salinas te animamos a mostrar esos rincones únicos que hacen especial nuestro municipio \n\n\n Casco urbano\, urbanizaciones\, entorno natural o Sierra Escalona… ¡sorpréndenos con tu mirada!\n\n\n Plazo de participación: hasta el 22 de junio de 2026 (inclusive)\n Hasta 4 fotografías por persona\n Participación gratuita (mayores de edad)\n\n\n Premios:\n 1º Premio: 300 €\n 2º Premio: 200 €\n 3º Premio: 100 €\n\n\n Presentación a través de sede electrónica\, presencialmente o por los medios establecidos.\n\n\n El fallo del jurado se publicará el 29 de junio de 2026\n\n\n Consulta y descarga las bases completas aquí \nhttps://sanmigueldesalinas.sedelectronica.es/…/c426cd3…/\n\n\n ¡Participa y ayúdanos a enseñar al mundo los espacios que enamoran de San Miguel de Salinas!\n\n\n#SanMiguelDeSalinas #TurismoSanMiguel #ConcursoFotográfico #EspaciosQueEnamoran #concejalíadeturismo
URL:https://www.sanmigueldesalinas.es/event/espacios-que-enamoran-2026/
CATEGORIES:Turismo
END:VEVENT
END:VCALENDAR