BEGIN:VCALENDAR
VERSION:2.0
PRODID:-//Ayuntamiento de San Miguel de Salinas - ECPv6.15.17.1//NONSGML v1.0//EN
CALSCALE:GREGORIAN
METHOD:PUBLISH
X-ORIGINAL-URL:https://www.sanmigueldesalinas.es
X-WR-CALDESC:Eventos para Ayuntamiento de San Miguel de Salinas
REFRESH-INTERVAL;VALUE=DURATION:PT1H
X-Robots-Tag:noindex
X-PUBLISHED-TTL:PT1H
BEGIN:VTIMEZONE
TZID:Europe/Madrid
BEGIN:DAYLIGHT
TZOFFSETFROM:+0100
TZOFFSETTO:+0200
TZNAME:CEST
DTSTART:20250330T010000
END:DAYLIGHT
BEGIN:STANDARD
TZOFFSETFROM:+0200
TZOFFSETTO:+0100
TZNAME:CET
DTSTART:20251026T010000
END:STANDARD
BEGIN:DAYLIGHT
TZOFFSETFROM:+0100
TZOFFSETTO:+0200
TZNAME:CEST
DTSTART:20260329T010000
END:DAYLIGHT
BEGIN:STANDARD
TZOFFSETFROM:+0200
TZOFFSETTO:+0100
TZNAME:CET
DTSTART:20261025T010000
END:STANDARD
BEGIN:DAYLIGHT
TZOFFSETFROM:+0100
TZOFFSETTO:+0200
TZNAME:CEST
DTSTART:20270328T010000
END:DAYLIGHT
BEGIN:STANDARD
TZOFFSETFROM:+0200
TZOFFSETTO:+0100
TZNAME:CET
DTSTART:20271031T010000
END:STANDARD
END:VTIMEZONE
BEGIN:VEVENT
DTSTART;TZID=Europe/Madrid:20260429T170000
DTEND;TZID=Europe/Madrid:20260430T200000
DTSTAMP:20260423T151653
CREATED:20260330T112135Z
LAST-MODIFIED:20260330T112908Z
UID:68258-1777482000-1777579200@www.sanmigueldesalinas.es
SUMMARY:FORMACIÓN AGRARIA EN SAN MIGUEL DE SALINAS
DESCRIPTION:¡FORMACIÓN AGRARIA EN SAN MIGUEL DE SALINAS! \n\n\nDesde el Ayuntamiento de San Miguel de Salinas\, a través de la Concejalía de Agricultura\, os animamos a participar en este interesante curso técnico especializado:\n\n\n Cultivos y reproducción de plantas aromáticas\n\n\n 29 y 30 de abril\n Horario: de 17:00 a 20:00 h\n Lugar: Centro Social (1ª planta)\nC/ Vicente Blasco Ibáñez\, 1\n\n\n Dirigido especialmente a agricultores y personas interesadas en el sector agrario\, donde aprenderéis:\n Principales especies aromáticas cultivadas\n Métodos de extracción de compuestos\n Técnicas de multiplicación de plantas\n Manejo y mantenimiento del cultivo\n\n\n Con profesionales especializados del sector agrario de la Generalitat Valenciana.\n\n\n Más información: 966 90 79 80\n esexag_elx@gva.es\n\n\n Inscripciones abiertas en el siguiente enlace:\nhttps://portalagrari.gva.es/…/formacio…/proximos-cursos\n\n\n Una gran oportunidad para mejorar la producción\, diversificar cultivos y apostar por nuevas alternativas agrícolas en nuestro municipio.\n\n\n ¡Plazas limitadas! ¡No te quedes sin la tuya!
URL:https://www.sanmigueldesalinas.es/event/formacion-agraria-en-san-miguel-de-salinas/
LOCATION:Centro Social\, Alicante\, 03193\, España
CATEGORIES:Agricultura
ATTACH;FMTTYPE=image/jpeg:https://www.sanmigueldesalinas.es/wp-content/uploads/2026/03/659732433_1376398971182881_6399573895560034372_n.jpg
END:VEVENT
END:VCALENDAR