BEGIN:VCALENDAR
VERSION:2.0
PRODID:-//Ayuntamiento de San Miguel de Salinas - ECPv6.15.17.1//NONSGML v1.0//EN
CALSCALE:GREGORIAN
METHOD:PUBLISH
X-WR-CALNAME:Ayuntamiento de San Miguel de Salinas
X-ORIGINAL-URL:https://www.sanmigueldesalinas.es
X-WR-CALDESC:Eventos para Ayuntamiento de San Miguel de Salinas
REFRESH-INTERVAL;VALUE=DURATION:PT1H
X-Robots-Tag:noindex
X-PUBLISHED-TTL:PT1H
BEGIN:VTIMEZONE
TZID:Europe/Madrid
BEGIN:DAYLIGHT
TZOFFSETFROM:+0100
TZOFFSETTO:+0200
TZNAME:CEST
DTSTART:20250330T010000
END:DAYLIGHT
BEGIN:STANDARD
TZOFFSETFROM:+0200
TZOFFSETTO:+0100
TZNAME:CET
DTSTART:20251026T010000
END:STANDARD
BEGIN:DAYLIGHT
TZOFFSETFROM:+0100
TZOFFSETTO:+0200
TZNAME:CEST
DTSTART:20260329T010000
END:DAYLIGHT
BEGIN:STANDARD
TZOFFSETFROM:+0200
TZOFFSETTO:+0100
TZNAME:CET
DTSTART:20261025T010000
END:STANDARD
BEGIN:DAYLIGHT
TZOFFSETFROM:+0100
TZOFFSETTO:+0200
TZNAME:CEST
DTSTART:20270328T010000
END:DAYLIGHT
BEGIN:STANDARD
TZOFFSETFROM:+0200
TZOFFSETTO:+0100
TZNAME:CET
DTSTART:20271031T010000
END:STANDARD
END:VTIMEZONE
BEGIN:VEVENT
DTSTART;TZID=Europe/Madrid:20260425T120000
DTEND;TZID=Europe/Madrid:20260425T120000
DTSTAMP:20260423T163717
CREATED:20260423T091048Z
LAST-MODIFIED:20260423T091048Z
UID:68298-1777118400-1777118400@www.sanmigueldesalinas.es
SUMMARY:Pinocho
DESCRIPTION:¡La magia del teatro llega a San Miguel de Salinas! \n\n\nEl sábado 25 de abril\, con motivo del Día del Libro\, que será el jueves 23 de abril\, el departamento de Cultura de San Miguel de Salinas ha preparado una actividad muy especial para toda la familia.\n\n\nDisfruta de una maravillosa representación de un clásico que hará las delicias de pequeños y mayores\, en un ambiente pensado para compartir\, imaginar y celebrar juntos la cultura.\n\n\n Sábado 25 de abril\n 12:00 h\n Plaza de la Libertad\n\n\nUna oportunidad única para vivir el teatro en familia\, gracias al trabajo del departamento de cultura\, que continúa acercando espectáculos de calidad a nuestro municipio\, con el apoyo de la Diputación de Alicante.\n\n\n ¡No te lo pierdas y ven a disfrutar de una mañana llena de cultura\, diversión y fantasía!
URL:https://www.sanmigueldesalinas.es/event/pinocho/
LOCATION:PLAZA DE LA LIBERTAD (PASEO)\, Plaza de La Libertad s/n\, San Miguel de Salinas\, Alicante\, 03193\, España
CATEGORIES:Cultura
ATTACH;FMTTYPE=image/jpeg:https://www.sanmigueldesalinas.es/wp-content/uploads/2026/04/671846654_1392630202893091_8175019074468529525_n.jpg
END:VEVENT
END:VCALENDAR